BEGIN:VCALENDAR
VERSION:2.0
PRODID:-//jEvents 2.0 for Joomla//EN
CALSCALE:GREGORIAN
METHOD:PUBLISH
BEGIN:VTIMEZONE
TZID:Europe/Berlin
BEGIN:STANDARD
DTSTART:20190314T080000
RDATE:20190331T030000
TZOFFSETFROM:+0200
TZOFFSETTO:+0100
TZNAME:Europe/Berlin CET
END:STANDARD
BEGIN:STANDARD
DTSTART:20191027T020000
RDATE:20200329T030000
TZOFFSETFROM:+0200
TZOFFSETTO:+0100
TZNAME:Europe/Berlin CET
END:STANDARD
BEGIN:STANDARD
DTSTART:20201025T020000
RDATE:20210328T030000
TZOFFSETFROM:+0200
TZOFFSETTO:+0100
TZNAME:Europe/Berlin CET
END:STANDARD
BEGIN:DAYLIGHT
DTSTART:20190331T030000
RDATE:20191027T020000
TZOFFSETFROM:+0100
TZOFFSETTO:+0200
TZNAME:Europe/Berlin CEST
END:DAYLIGHT
BEGIN:DAYLIGHT
DTSTART:20200329T030000
RDATE:20201025T020000
TZOFFSETFROM:+0100
TZOFFSETTO:+0200
TZNAME:Europe/Berlin CEST
END:DAYLIGHT
END:VTIMEZONE
BEGIN:VEVENT
UID:0a1a7233d699e4a90ac304d2a8265573
CATEGORIES:Turniere
CREATED:20200218T101405
SUMMARY:ABGESAGT - DTFB Multitable Challenger
LOCATION:STFV Trainingszentrum Ottweiler
DESCRIPTION;ENCODING=QUOTED-PRINTABLE:\n\n\n
CONTACT:Diese E-Mail-Adresse ist vor Spambots geschützt! Zur Anzeige muss JavaScript eingeschaltet sein!
				document.getElementById('cloakadc2673a0bddb97d53928a9558f28383').innerHTML = '';
				var prefix = '&#109;a' + 'i&#108;' + '&#116;o';
				var path = 'hr' + 'ef' + '=';
				var addyadc2673a0bddb97d53928a9558f28383 = 't&#117;rn&#105;&#101;r&#101;' + '&#64;';
				addyadc2673a0bddb97d53928a9558f28383 = addyadc2673a0bddb97d53928a9558f28383 + 'stfv' + '&#46;' + 'd&#101;';
				var addy_textadc2673a0bddb97d53928a9558f28383 = 't&#117;rn&#105;&#101;r&#101;' + '&#64;' + 'stfv' + '&#46;' + 'd&#101;';document.getElementById('cloakadc2673a0bddb97d53928a9558f28383').innerHTML += ''+addy_textadc2673a0bddb97d53928a9558f28383+'';
		
DTSTAMP:20260425T231012Z
DTSTART;TZID=Europe/Berlin:20200314T080000
DTEND;TZID=Europe/Berlin:20200314T170000
SEQUENCE:0
TRANSP:OPAQUE
END:VEVENT
END:VCALENDAR