BEGIN:VCALENDAR
VERSION:2.0
PRODID:-//jEvents 2.0 for Joomla//EN
CALSCALE:GREGORIAN
METHOD:PUBLISH
BEGIN:VTIMEZONE
TZID:Europe/Berlin
BEGIN:STANDARD
DTSTART:20191205T000000
RDATE:20200329T030000
TZOFFSETFROM:+0200
TZOFFSETTO:+0100
TZNAME:Europe/Berlin CET
END:STANDARD
BEGIN:STANDARD
DTSTART:20201025T020000
RDATE:20210328T030000
TZOFFSETFROM:+0200
TZOFFSETTO:+0100
TZNAME:Europe/Berlin CET
END:STANDARD
BEGIN:DAYLIGHT
DTSTART:20200329T030000
RDATE:20201025T020000
TZOFFSETFROM:+0100
TZOFFSETTO:+0200
TZNAME:Europe/Berlin CEST
END:DAYLIGHT
END:VTIMEZONE
BEGIN:VEVENT
UID:e3aa368ff785e9fe7a6f12af52a9e538
CATEGORIES:Turniere
CREATED:20191229T114125
SUMMARY:Landesmeisterschaften Bonzini
DESCRIPTION;ENCODING=QUOTED-PRINTABLE:
DTSTAMP:20260425T144007Z
DTSTART;TZID=Europe/Berlin;VALUE=DATE:20201205
DTEND;TZID=Europe/Berlin;VALUE=DATE:20201206
SEQUENCE:0
TRANSP:OPAQUE
END:VEVENT
END:VCALENDAR