BEGIN:VCALENDAR
VERSION:2.0
PRODID:-//jEvents 2.0 for Joomla//EN
CALSCALE:GREGORIAN
METHOD:PUBLISH
BEGIN:VTIMEZONE
TZID:Europe/Berlin
BEGIN:STANDARD
DTSTART:20181130T080000
RDATE:20190331T030000
TZOFFSETFROM:+0200
TZOFFSETTO:+0100
TZNAME:Europe/Berlin CET
END:STANDARD
BEGIN:STANDARD
DTSTART:20191027T020000
RDATE:20200329T030000
TZOFFSETFROM:+0200
TZOFFSETTO:+0100
TZNAME:Europe/Berlin CET
END:STANDARD
BEGIN:STANDARD
DTSTART:20201025T020000
RDATE:20210328T030000
TZOFFSETFROM:+0200
TZOFFSETTO:+0100
TZNAME:Europe/Berlin CET
END:STANDARD
BEGIN:DAYLIGHT
DTSTART:20190331T030000
RDATE:20191027T020000
TZOFFSETFROM:+0100
TZOFFSETTO:+0200
TZNAME:Europe/Berlin CEST
END:DAYLIGHT
BEGIN:DAYLIGHT
DTSTART:20200329T030000
RDATE:20201025T020000
TZOFFSETFROM:+0100
TZOFFSETTO:+0200
TZNAME:Europe/Berlin CEST
END:DAYLIGHT
END:VTIMEZONE
BEGIN:VEVENT
UID:1d995d70e87ab10dafae9b7a412ec575
CATEGORIES:STFV Ranglistenturniere
CREATED:20190327T210650
SUMMARY:Leonhart Saarlandmeisterschaft + Hansberg Senioren
LOCATION:Leistungszentrum Ottweiler
DESCRIPTION;ENCODING=QUOTED-PRINTABLE:\n\n\n\n\n\n
X-EXTRAINFO:Senioren, die an den Hansberg Senioren Landesmeisterschaften teilnehmen kön
 nen nicht gleichzeitig an den Leo Mixed Disziplinen teilnehmen.
DTSTAMP:20260423T234956Z
DTSTART;TZID=Europe/Berlin:20191201T080000
DTEND;TZID=Europe/Berlin:20191201T170000
SEQUENCE:0
TRANSP:OPAQUE
END:VEVENT
END:VCALENDAR