BEGIN:VCALENDAR
VERSION:2.0
PRODID:-//jEvents 2.0 for Joomla//EN
CALSCALE:GREGORIAN
METHOD:PUBLISH
BEGIN:VTIMEZONE
TZID:Europe/Berlin
BEGIN:STANDARD
DTSTART:20181028T020000
RDATE:20190331T030000
TZOFFSETFROM:+0200
TZOFFSETTO:+0100
TZNAME:Europe/Berlin CET
END:STANDARD
BEGIN:STANDARD
DTSTART:20191027T020000
RDATE:20200329T030000
TZOFFSETFROM:+0200
TZOFFSETTO:+0100
TZNAME:Europe/Berlin CET
END:STANDARD
BEGIN:STANDARD
DTSTART:20201025T020000
RDATE:20210328T030000
TZOFFSETFROM:+0200
TZOFFSETTO:+0100
TZNAME:Europe/Berlin CET
END:STANDARD
BEGIN:DAYLIGHT
DTSTART:20181005T080000
RDATE:20181028T020000
TZOFFSETFROM:+0100
TZOFFSETTO:+0200
TZNAME:Europe/Berlin CEST
END:DAYLIGHT
BEGIN:DAYLIGHT
DTSTART:20190331T030000
RDATE:20191027T020000
TZOFFSETFROM:+0100
TZOFFSETTO:+0200
TZNAME:Europe/Berlin CEST
END:DAYLIGHT
BEGIN:DAYLIGHT
DTSTART:20200329T030000
RDATE:20201025T020000
TZOFFSETFROM:+0100
TZOFFSETTO:+0200
TZNAME:Europe/Berlin CEST
END:DAYLIGHT
END:VTIMEZONE
BEGIN:VEVENT
UID:6da5a4b3024ef86d6be19fe5d806a1f3
CATEGORIES:DTFB Challengerturniere
CREATED:20190922T205209
SUMMARY:Multitable Challenger STFV Landesleistungszentrum
LOCATION:St. Wendel
DESCRIPTION;ENCODING=QUOTED-PRINTABLE:\n\n\n
X-EXTRAINFO:für weitere Information Diese E-Mail-Adresse ist vor Spambots geschützt! Zu
 r Anzeige muss JavaScript eingeschaltet sein!
				document.getElementById('
 cloak4b6ebc601291381810ea150054c3a8a1').innerHTML = '';
				var prefix = '&
 #109;a' + 'i&#108;' + '&#116;o';
				var path = 'hr' + 'ef' + '=';
				var 
 addy4b6ebc601291381810ea150054c3a8a1 = 't&#117;rn&#105;&#101;r&#101;' + '&#
 64;';
				addy4b6ebc601291381810ea150054c3a8a1 = addy4b6ebc601291381810ea15
 0054c3a8a1 + 'stfv' + '&#46;' + 'd&#101;';
				var addy_text4b6ebc601291381
 810ea150054c3a8a1 = 't&#117;rn&#105;&#101;r&#101;' + '&#64;' + 'stfv' + '&#
 46;' + 'd&#101;';document.getElementById('cloak4b6ebc601291381810ea150054c3
 a8a1').innerHTML += ''+addy_text4b6ebc601291381810ea150054c3a8a1+'';
		 wen
 den
DTSTAMP:20260420T105708Z
DTSTART;TZID=Europe/Berlin:20191006T080000
DTEND;TZID=Europe/Berlin:20191006T170000
SEQUENCE:0
TRANSP:OPAQUE
END:VEVENT
END:VCALENDAR